BEGIN:VCALENDAR
VERSION:2.0
PRODID:-//The Winery at the Long Shot Farm - ECPv6.15.20//NONSGML v1.0//EN
CALSCALE:GREGORIAN
METHOD:PUBLISH
X-WR-CALNAME:The Winery at the Long Shot Farm
X-ORIGINAL-URL:https://thelongshotfarm.com
X-WR-CALDESC:Events for The Winery at the Long Shot Farm
REFRESH-INTERVAL;VALUE=DURATION:PT1H
X-Robots-Tag:noindex
X-PUBLISHED-TTL:PT1H
BEGIN:VTIMEZONE
TZID:America/New_York
BEGIN:DAYLIGHT
TZOFFSETFROM:-0500
TZOFFSETTO:-0400
TZNAME:EDT
DTSTART:20250309T070000
END:DAYLIGHT
BEGIN:STANDARD
TZOFFSETFROM:-0400
TZOFFSETTO:-0500
TZNAME:EST
DTSTART:20251102T060000
END:STANDARD
BEGIN:DAYLIGHT
TZOFFSETFROM:-0500
TZOFFSETTO:-0400
TZNAME:EDT
DTSTART:20260308T070000
END:DAYLIGHT
BEGIN:STANDARD
TZOFFSETFROM:-0400
TZOFFSETTO:-0500
TZNAME:EST
DTSTART:20261101T060000
END:STANDARD
BEGIN:DAYLIGHT
TZOFFSETFROM:-0500
TZOFFSETTO:-0400
TZNAME:EDT
DTSTART:20270314T070000
END:DAYLIGHT
BEGIN:STANDARD
TZOFFSETFROM:-0400
TZOFFSETTO:-0500
TZNAME:EST
DTSTART:20271107T060000
END:STANDARD
END:VTIMEZONE
BEGIN:VEVENT
DTSTART;TZID=America/New_York:20260503T130000
DTEND;TZID=America/New_York:20260503T150000
DTSTAMP:20260421T061726
CREATED:20260306T202424Z
LAST-MODIFIED:20260306T202424Z
UID:3238-1777813200-1777820400@thelongshotfarm.com
SUMMARY:Book Club- The Forest of Vanishing Stars by Kristin Harmel
DESCRIPTION:Thursday\, May 7th at 6pmSunday\, May 3rd at 1pm\nJoin us as we discuss The Forest of Vanishing Stars by Kristin Harmel — a gripping historical novel of survival\, courage\, and unexpected hope set during World War II.\nWe’ll explore its themes of identity\, morality\, and what it means to protect others in impossible circumstances — all while enjoying wine\, snacks\, and meaningful conversation.\nWhether you’re a longtime member or joining for the first time\, you’re invited to pull up a chair and share your thoughts.Please RSVP to rachel@thelongshotfarm.comas space is limited.
URL:https://thelongshotfarm.com/event/book-club-the-forest-of-vanishing-stars-by-kristin-harmel-2/
LOCATION:The Winery at the Long Shot Farm\, 1925 McClure’s Gap Road\, Carlisle\, PA\, 17015\, United States
END:VEVENT
BEGIN:VEVENT
DTSTART;TZID=America/New_York:20260507T180000
DTEND;TZID=America/New_York:20260507T200000
DTSTAMP:20260421T061726
CREATED:20260306T202332Z
LAST-MODIFIED:20260306T202332Z
UID:3235-1778176800-1778184000@thelongshotfarm.com
SUMMARY:Book Club- The Forest of Vanishing Stars by Kristin Harmel
DESCRIPTION:Thursday\, May 7th at 6pmSunday\, May 3rd at 1pm\nJoin us as we discuss The Forest of Vanishing Stars by Kristin Harmel — a gripping historical novel of survival\, courage\, and unexpected hope set during World War II.\nWe’ll explore its themes of identity\, morality\, and what it means to protect others in impossible circumstances — all while enjoying wine\, snacks\, and meaningful conversation.\nWhether you’re a longtime member or joining for the first time\, you’re invited to pull up a chair and share your thoughts.Please RSVP to rachel@thelongshotfarm.comas space is limited.
URL:https://thelongshotfarm.com/event/book-club-the-forest-of-vanishing-stars-by-kristin-harmel/
LOCATION:The Winery at the Long Shot Farm\, 1925 McClure’s Gap Road\, Carlisle\, PA\, 17015\, United States
END:VEVENT
END:VCALENDAR